BEGIN:VCALENDAR
VERSION:2.0
PRODID:-//jEvents 2.0 for Joomla//EN
CALSCALE:GREGORIAN
METHOD:PUBLISH
BEGIN:VEVENT
UID:gno2sp2h5gi8ottl0vndt4smok@google.com
CATEGORIES:Devotional Gatherings
CREATED:20250721T000252
SUMMARY:LSA meeting
URL;VALUE=URI:https://www.redlands.qld.bahai.org.au/local-events-calendar/1504/lsa-meetin
 g.html?tmpl=component
DESCRIPTION: <a href="https://www.redlands.qld.bahai.org.au/local-events-calendar/1504/
 lsa-meeting.html?tmpl=component">This event was imported from: https://www.
 redlands.qld.bahai.org.au/local-events-calendar/1504/lsa-meeting.html?tmpl=
 component</a>DTSTAMP:20260421T225420
DTSTART;TZID=Australia/Brisbane:20231113T190000
DTEND;TZID=Australia/Brisbane:20231113T200000
SEQUENCE:0
TRANSP:OPAQUE
END:VEVENT
END:VCALENDAR