BEGIN:VCALENDAR
VERSION:2.0
PRODID:-//jEvents 2.0 for Joomla//EN
CALSCALE:GREGORIAN
METHOD:PUBLISH
BEGIN:VEVENT
UID:cgs66ob46ss34bb2chgjcb9k61hmab9p6pi30b9g71hjec9k61i66chj6o@google.com
CATEGORIES:Devotional Gatherings
CREATED:20250721T000252
SUMMARY:James - Carol
URL;VALUE=URI:https://www.redlands.qld.bahai.org.au/local-events-calendar/1502/james-caro
 l.html?tmpl=component
DESCRIPTION: <a href="https://www.redlands.qld.bahai.org.au/local-events-calendar/1502/
 james-carol.html?tmpl=component">This event was imported from: https://www.
 redlands.qld.bahai.org.au/local-events-calendar/1502/james-carol.html?tmpl=
 component</a>DTSTAMP:20260422T220221
DTSTART;TZID=Australia/Brisbane:20220208T170000
DTEND;TZID=Australia/Brisbane:20220208T190000
SEQUENCE:0
TRANSP:OPAQUE
END:VEVENT
END:VCALENDAR