BEGIN:VCALENDAR
VERSION:2.0
PRODID:-//jEvents 2.0 for Joomla//EN
CALSCALE:GREGORIAN
METHOD:PUBLISH
BEGIN:VEVENT
UID:s3uq077cjgd6h85behvjm73jdk@google.com
CATEGORIES:Devotional Gatherings
CREATED:20250721T000252
SUMMARY:LSA meeting
LOCATION:Zoom 
URL;VALUE=URI:https://www.redlands.qld.bahai.org.au/local-events-calendar/1501/lsa-meetin
 g.html?tmpl=component
DESCRIPTION: This event was imported from: https://www.redlands.qld.bahai.org.au/local-
 events-calendar/1501/lsa-meeting.html?tmpl=component
X-ALT-DESC;FMTTYPE=text/html: <a href="https://www.redlands.qld.bahai.org.au/local-events-calendar/1501/
 lsa-meeting.html?tmpl=component">This event was imported from: https://www.
 redlands.qld.bahai.org.au/local-events-calendar/1501/lsa-meeting.html?tmpl=
 component</a>DTSTAMP:20260422T223233
DTSTART;TZID=Australia/Brisbane:20220120T193000
DTEND;TZID=Australia/Brisbane:20220120T203000
SEQUENCE:0
TRANSP:OPAQUE
END:VEVENT
END:VCALENDAR